BEGIN:VCALENDAR
VERSION:2.0
PRODID:-//Churches Together In Hertfordshire - ECPv4.6.18//NONSGML v1.0//EN
CALSCALE:GREGORIAN
METHOD:PUBLISH
X-WR-CALNAME:Churches Together In Hertfordshire
X-ORIGINAL-URL:http://ctherts.org.uk
X-WR-CALDESC:Events for Churches Together In Hertfordshire
BEGIN:VEVENT
DTSTART;VALUE=DATE:20190530
DTEND;VALUE=DATE:20190610
DTSTAMP:20260423T220052
CREATED:20190227T144930Z
LAST-MODIFIED:20190227T145043Z
UID:478-1559174400-1560124799@ctherts.org.uk
SUMMARY:Thy Kingdom Come
DESCRIPTION:Thy Kingdom Come is a global prayer movement\, which invites Christians around the world to pray between Ascension and Pentecost for more people to come to know Jesus Christ. What started out as an invitation from the Archbishops’ of Canterbury and York in 2016 to the Church of England has grown into an international and ecumenical call to prayer. \n
URL:http://ctherts.org.uk/event/thy-kingdom-come
END:VEVENT
BEGIN:VEVENT
DTSTART;TZID=UTC+0:20190609T183000
DTEND;TZID=UTC+0:20190609T183000
DTSTAMP:20260423T220052
CREATED:20190227T145347Z
LAST-MODIFIED:20190227T145428Z
UID:481-1560105000-1560105000@ctherts.org.uk
SUMMARY:Thy Kingdom Come Beacon Celebration
DESCRIPTION:Come and join Christians from across the region at the Thy Kingdom Come Beacon Celebration 2019 to worship and pray together that people will come to know Jesus Christ. All are welcome. \nBishop Alan will welcome everyone to the Cathedral and a group from across the churches have been meeting to plan this special event. The programme is still being finalised but special guests include: \n\n\n\nRev. Dr Paul Goodliff\, General Secretary for Churches Together in England\nHis Eminence Archbishop Angaelos\, Coptic Orthodox Archbishop of London\,\nBishop Paul MacAleenen\, Roman Catholic Bishop of Westminster\nRev. Abigail Thompson\, Sub Dean of St Albans Cathedral\nWith music from Soul Survivor\n\n\n\n
URL:http://ctherts.org.uk/event/thy-kingdom-come-beacon-celebration
END:VEVENT
END:VCALENDAR