BEGIN:VCALENDAR
VERSION:2.0
PRODID:-//Churches Together In Hertfordshire - ECPv4.6.18//NONSGML v1.0//EN
CALSCALE:GREGORIAN
METHOD:PUBLISH
X-WR-CALNAME:Churches Together In Hertfordshire
X-ORIGINAL-URL:http://ctherts.org.uk
X-WR-CALDESC:Events for Churches Together In Hertfordshire
BEGIN:VEVENT
DTSTART;TZID=UTC+0:20200224T080000
DTEND;TZID=UTC+0:20200224T213000
DTSTAMP:20260423T103344
CREATED:20200214T150644Z
LAST-MODIFIED:20200214T150644Z
UID:724-1582531200-1582579800@ctherts.org.uk
SUMMARY:Interfaith in Herts: What works and what doesn't?
DESCRIPTION:Join local Jewish\, Muslim and Christian faith leaders as we welcome the High Sheriff of Hertfordshire\, Mrs. Sarah Beazley.  Click here for more information. \n
URL:http://ctherts.org.uk/event/interfaith-in-herts-what-works-and-what-doesnt
END:VEVENT
BEGIN:VEVENT
DTSTART;TZID=UTC+0:20200224T194500
DTEND;TZID=UTC+0:20200224T210000
DTSTAMP:20260423T103344
CREATED:20200214T152121Z
LAST-MODIFIED:20200214T152211Z
UID:728-1582573500-1582578000@ctherts.org.uk
SUMMARY:Churches Together in St Albans Forum  - The Climate and other Challenges
DESCRIPTION:CTSA’s AGM and Winter Forum at 7.45 pm at Hatfield Road Methodist Church. The Forum will pick up on last year’s successful presentation on “No Planet B” and carry it forward with a discussion of where we go from here and what we can all do about it. All welcome. Refreshments served. \nFor more information please click here \n  \n
URL:http://ctherts.org.uk/event/churches-together-in-st-albans-forum-the-climate-and-other-challenges
LOCATION:Hatfield Road\, St Albans\, United Kingdom
END:VEVENT
END:VCALENDAR