BEGIN:VCALENDAR
VERSION:2.0
PRODID:-//Churches Together In Hertfordshire - ECPv4.6.18//NONSGML v1.0//EN
CALSCALE:GREGORIAN
METHOD:PUBLISH
X-WR-CALNAME:Churches Together In Hertfordshire
X-ORIGINAL-URL:http://ctherts.org.uk
X-WR-CALDESC:Events for Churches Together In Hertfordshire
BEGIN:VEVENT
DTSTART;VALUE=DATE:20200303
DTEND;VALUE=DATE:20200306
DTSTAMP:20260421T181022
CREATED:20191119T135441Z
LAST-MODIFIED:20191119T135441Z
UID:640-1583193600-1583452799@ctherts.org.uk
SUMMARY:CTBI - Crossing the Boundaries of Faith Conference
DESCRIPTION:For more information please click here \n
URL:http://ctherts.org.uk/event/ctbi-crossing-the-boundaries-of-faith-conference
END:VEVENT
BEGIN:VEVENT
DTSTART;TZID=UTC+0:20200305T123000
DTEND;TZID=UTC+0:20200305T133000
DTSTAMP:20260421T181023
CREATED:20190808T104615Z
LAST-MODIFIED:20190808T104615Z
UID:552-1583411400-1583415000@ctherts.org.uk
SUMMARY:Thinking Lunch - The Revd Antony MacRow-Wood Can credit unions play a significant part in promoting financial inclusion?
DESCRIPTION:
URL:http://ctherts.org.uk/event/thinking-lunch-the-revd-antony-macrow-wood-can-credit-unions-play-a-significant-part-in-promoting-financial-inclusion
LOCATION:Marlborough Road\, St Albans\, AL1 3XQ
END:VEVENT
END:VCALENDAR